BEGIN:VCALENDAR
VERSION:2.0
PRODID:-//The Vineyard - ECPv5.7.1//NONSGML v1.0//EN
CALSCALE:GREGORIAN
METHOD:PUBLISH
X-WR-CALNAME:The Vineyard
X-ORIGINAL-URL:https://thevineyardchurch.tv
X-WR-CALDESC:Events for The Vineyard
BEGIN:VTIMEZONE
TZID:UTC
BEGIN:STANDARD
TZOFFSETFROM:+0000
TZOFFSETTO:+0000
TZNAME:UTC
DTSTART:20250101T000000
END:STANDARD
END:VTIMEZONE
BEGIN:VEVENT
DTSTART;TZID=UTC:20250302T100000
DTEND;TZID=UTC:20250302T113000
DTSTAMP:20260423T041710
CREATED:20210713T143748Z
LAST-MODIFIED:20241212T161214Z
UID:9744-1740909600-1740915000@thevineyardchurch.tv
SUMMARY:Church Service
DESCRIPTION:
URL:https://thevineyardchurch.tv/event/church-service-1000am-65/
LOCATION:The Vineyard\, A Community Church\, 8 Hilltop Avenue\, Kingston\, MA\, 02364\, United States
END:VEVENT
BEGIN:VEVENT
DTSTART;TZID=UTC:20250303T183000
DTEND;TZID=UTC:20250303T200000
DTSTAMP:20260423T041710
CREATED:20250114T203519Z
LAST-MODIFIED:20250114T203742Z
UID:12520-1741026600-1741032000@thevineyardchurch.tv
SUMMARY:Power of a Woman's Words Bible Study
DESCRIPTION:
URL:https://thevineyardchurch.tv/event/power-of-a-womans-words-3/
LOCATION:The Vineyard\, A Community Church\, 8 Hilltop Avenue\, Kingston\, MA\, 02364\, United States
ATTACH;FMTTYPE=image/png:https://thevineyardchurch.tv/wp-content/uploads/2017/03/Power-of-a-Womans-Words.png
END:VEVENT
BEGIN:VEVENT
DTSTART;TZID=UTC:20250309T100000
DTEND;TZID=UTC:20250309T113000
DTSTAMP:20260423T041710
CREATED:20210713T143700Z
LAST-MODIFIED:20241212T161312Z
UID:9742-1741514400-1741519800@thevineyardchurch.tv
SUMMARY:Church Service
DESCRIPTION:
URL:https://thevineyardchurch.tv/event/church-service-1000am-64/
LOCATION:The Vineyard\, A Community Church\, 8 Hilltop Avenue\, Kingston\, MA\, 02364\, United States
END:VEVENT
BEGIN:VEVENT
DTSTART;TZID=UTC:20250312T183000
DTEND;TZID=UTC:20250312T200000
DTSTAMP:20260423T041710
CREATED:20211217T202242Z
LAST-MODIFIED:20241212T162424Z
UID:10383-1741804200-1741809600@thevineyardchurch.tv
SUMMARY:Men's Celebrate Recovery
DESCRIPTION:Men’s Celebrate Recovery
URL:https://thevineyardchurch.tv/event/celebrate-recovery-7pm-13/
LOCATION:The Vineyard\, A Community Church\, 8 Hilltop Avenue\, Kingston\, MA\, 02364\, United States
ATTACH;FMTTYPE=image/png:https://thevineyardchurch.tv/wp-content/uploads/2021/12/celebrate-recovery-pic.png
END:VEVENT
BEGIN:VEVENT
DTSTART;TZID=UTC:20250316T100000
DTEND;TZID=UTC:20250316T100000
DTSTAMP:20260423T041710
CREATED:20210713T143623Z
LAST-MODIFIED:20241212T161953Z
UID:9740-1742119200-1742119200@thevineyardchurch.tv
SUMMARY:Church Service
DESCRIPTION:
URL:https://thevineyardchurch.tv/event/church-service-1000am-63/
LOCATION:The Vineyard\, A Community Church\, 8 Hilltop Avenue\, Kingston\, MA\, 02364\, United States
END:VEVENT
BEGIN:VEVENT
DTSTART;TZID=UTC:20250316T100000
DTEND;TZID=UTC:20250316T113000
DTSTAMP:20260423T041710
CREATED:20250226T161723Z
LAST-MODIFIED:20250227T201459Z
UID:12620-1742119200-1742124600@thevineyardchurch.tv
SUMMARY:Teen Challenge Sunday
DESCRIPTION:
URL:https://thevineyardchurch.tv/event/teen-challenge-sunday/
LOCATION:The Vineyard\, A Community Church\, 8 Hilltop Avenue\, Kingston\, MA\, 02364\, United States
ATTACH;FMTTYPE=image/png:https://thevineyardchurch.tv/wp-content/uploads/2025/02/Teen-Challenge-Sunday-March-16.png
END:VEVENT
BEGIN:VEVENT
DTSTART;TZID=UTC:20250317T183000
DTEND;TZID=UTC:20250317T200000
DTSTAMP:20260423T041710
CREATED:20250114T203611Z
LAST-MODIFIED:20250114T203723Z
UID:12522-1742236200-1742241600@thevineyardchurch.tv
SUMMARY:Power of a Woman's Words Bible Study
DESCRIPTION:
URL:https://thevineyardchurch.tv/event/power-of-a-womans-words-4/
LOCATION:The Vineyard\, A Community Church\, 8 Hilltop Avenue\, Kingston\, MA\, 02364\, United States
ATTACH;FMTTYPE=image/png:https://thevineyardchurch.tv/wp-content/uploads/2017/03/Power-of-a-Womans-Words.png
END:VEVENT
BEGIN:VEVENT
DTSTART;TZID=UTC:20250323T100000
DTEND;TZID=UTC:20250323T113000
DTSTAMP:20260423T041710
CREATED:20210713T143548Z
LAST-MODIFIED:20241212T161340Z
UID:9738-1742724000-1742729400@thevineyardchurch.tv
SUMMARY:Church Service
DESCRIPTION:
URL:https://thevineyardchurch.tv/event/church-service-1000am-62/
LOCATION:The Vineyard\, A Community Church\, 8 Hilltop Avenue\, Kingston\, MA\, 02364\, United States
END:VEVENT
BEGIN:VEVENT
DTSTART;TZID=UTC:20250323T120000
DTEND;TZID=UTC:20250323T150000
DTSTAMP:20260423T041710
CREATED:20250304T212637Z
LAST-MODIFIED:20250304T212637Z
UID:12642-1742731200-1742742000@thevineyardchurch.tv
SUMMARY:Men's Fellowship
DESCRIPTION:
URL:https://thevineyardchurch.tv/event/mens-fellowship-2/
LOCATION:The Vineyard\, A Community Church\, 8 Hilltop Avenue\, Kingston\, MA\, 02364\, United States
ATTACH;FMTTYPE=image/png:https://thevineyardchurch.tv/wp-content/uploads/2025/03/Mens-Fellowship-March-23.png
END:VEVENT
BEGIN:VEVENT
DTSTART;TZID=UTC:20250330T100000
DTEND;TZID=UTC:20250330T113000
DTSTAMP:20260423T041710
CREATED:20210713T143511Z
LAST-MODIFIED:20241212T161347Z
UID:9736-1743328800-1743334200@thevineyardchurch.tv
SUMMARY:Church Service
DESCRIPTION:
URL:https://thevineyardchurch.tv/event/church-service-1000am-61/
LOCATION:The Vineyard\, A Community Church\, 8 Hilltop Avenue\, Kingston\, MA\, 02364\, United States
END:VEVENT
BEGIN:VEVENT
DTSTART;TZID=UTC:20250330T120000
DTEND;TZID=UTC:20250330T150000
DTSTAMP:20260423T041710
CREATED:20250306T151806Z
LAST-MODIFIED:20250306T151912Z
UID:12650-1743336000-1743346800@thevineyardchurch.tv
SUMMARY:Accessory Swap
DESCRIPTION:
URL:https://thevineyardchurch.tv/event/accessory-swap/
LOCATION:The Vineyard\, A Community Church\, 8 Hilltop Avenue\, Kingston\, MA\, 02364\, United States
ATTACH;FMTTYPE=image/png:https://thevineyardchurch.tv/wp-content/uploads/2025/03/ACCESSORY-SWAP-MARCH-30.png
END:VEVENT
BEGIN:VEVENT
DTSTART;TZID=UTC:20250331T183000
DTEND;TZID=UTC:20250331T200000
DTSTAMP:20260423T041710
CREATED:20250114T203122Z
LAST-MODIFIED:20250114T203122Z
UID:12514-1743445800-1743451200@thevineyardchurch.tv
SUMMARY:Power of a Woman's Words Bible Study
DESCRIPTION:
URL:https://thevineyardchurch.tv/event/power-of-a-womans-words-bible-study-4/
LOCATION:The Vineyard\, A Community Church\, 8 Hilltop Avenue\, Kingston\, MA\, 02364\, United States
ATTACH;FMTTYPE=image/png:https://thevineyardchurch.tv/wp-content/uploads/2017/03/Power-of-a-Womans-Words.png
END:VEVENT
END:VCALENDAR