BEGIN:VCALENDAR
VERSION:2.0
PRODID:-//The Vineyard - ECPv5.7.1//NONSGML v1.0//EN
CALSCALE:GREGORIAN
METHOD:PUBLISH
X-WR-CALNAME:The Vineyard
X-ORIGINAL-URL:https://thevineyardchurch.tv
X-WR-CALDESC:Events for The Vineyard
BEGIN:VTIMEZONE
TZID:UTC
BEGIN:STANDARD
TZOFFSETFROM:+0000
TZOFFSETTO:+0000
TZNAME:UTC
DTSTART:20250101T000000
END:STANDARD
END:VTIMEZONE
BEGIN:VEVENT
DTSTART;TZID=UTC:20250105T100000
DTEND;TZID=UTC:20250105T113000
DTSTAMP:20260423T070318
CREATED:20210713T144839Z
LAST-MODIFIED:20241212T161118Z
UID:9764-1736071200-1736076600@thevineyardchurch.tv
SUMMARY:Church Service
DESCRIPTION:
URL:https://thevineyardchurch.tv/event/church-service-1000am-74/
LOCATION:The Vineyard\, A Community Church\, 8 Hilltop Avenue\, Kingston\, MA\, 02364\, United States
END:VEVENT
BEGIN:VEVENT
DTSTART;TZID=UTC:20250106T183000
DTEND;TZID=UTC:20250106T200000
DTSTAMP:20260423T070318
CREATED:20241217T212241Z
LAST-MODIFIED:20241217T212508Z
UID:12440-1736188200-1736193600@thevineyardchurch.tv
SUMMARY:The Power of a Woman’s Words Bible Study
DESCRIPTION:It’s not too late to join this study. On January 6th\, we will be discussing Chapter 3\, Questions 1-13.\n\n\n\n\nThe Power of a Woman’s Words\, Book and Study Guide by Sharon Jaynes \nUse your words to instill courage\, express confidence\, and share Christ! Guided by Sharon Jaynes\, you’ll journey alongside women of the Bible as you learn to become a source of encouragement\, offer helpful instruction\, bring healing through your message\, and give the gift of loving kindness to a hurting world. \nThe book and study guide can be purchased at the church for $15.50\, just ask Leavitt or Sandra G. \nLeavitt – info@thevineyardkingston.org or 781-588-7162 \nSandra – 781-888-0154
URL:https://thevineyardchurch.tv/event/the-power-of-a-womans-words-bible-study-5/
LOCATION:The Vineyard\, A Community Church\, 8 Hilltop Avenue\, Kingston\, MA\, 02364\, United States
ATTACH;FMTTYPE=image/png:https://thevineyardchurch.tv/wp-content/uploads/2017/03/Power-of-a-Womans-Words.png
END:VEVENT
BEGIN:VEVENT
DTSTART;TZID=UTC:20250112T100000
DTEND;TZID=UTC:20250112T113000
DTSTAMP:20260423T070318
CREATED:20210713T144759Z
LAST-MODIFIED:20241212T161128Z
UID:9762-1736676000-1736681400@thevineyardchurch.tv
SUMMARY:Church Service
DESCRIPTION:
URL:https://thevineyardchurch.tv/event/church-service-1000am-73/
LOCATION:The Vineyard\, A Community Church\, 8 Hilltop Avenue\, Kingston\, MA\, 02364\, United States
END:VEVENT
BEGIN:VEVENT
DTSTART;TZID=UTC:20250112T114500
DTEND;TZID=UTC:20250112T140000
DTSTAMP:20260423T070318
CREATED:20241218T155814Z
LAST-MODIFIED:20241218T155814Z
UID:12447-1736682300-1736690400@thevineyardchurch.tv
SUMMARY:Women's Ministry "Soak in Jesus" Lunch
DESCRIPTION:
URL:https://thevineyardchurch.tv/event/womens-ministry-soak-in-jesus-lunch/
LOCATION:The Vineyard\, A Community Church\, 8 Hilltop Avenue\, Kingston\, MA\, 02364\, United States
ATTACH;FMTTYPE=image/png:https://thevineyardchurch.tv/wp-content/uploads/2024/12/Womens-Jan-12-w.png
END:VEVENT
BEGIN:VEVENT
DTSTART;TZID=UTC:20250119T100000
DTEND;TZID=UTC:20250119T113000
DTSTAMP:20260423T070318
CREATED:20210713T144632Z
LAST-MODIFIED:20241212T161136Z
UID:9758-1737280800-1737286200@thevineyardchurch.tv
SUMMARY:Church Service
DESCRIPTION:
URL:https://thevineyardchurch.tv/event/church-service-1000am-71/
LOCATION:The Vineyard\, A Community Church\, 8 Hilltop Avenue\, Kingston\, MA\, 02364\, United States
END:VEVENT
BEGIN:VEVENT
DTSTART;TZID=UTC:20250120T183000
DTEND;TZID=UTC:20250120T200000
DTSTAMP:20260423T070318
CREATED:20250114T202832Z
LAST-MODIFIED:20250114T202832Z
UID:12508-1737397800-1737403200@thevineyardchurch.tv
SUMMARY:Power of a Woman's Words Bible Study
DESCRIPTION:
URL:https://thevineyardchurch.tv/event/power-of-a-womans-words-bible-study/
LOCATION:The Vineyard\, A Community Church\, 8 Hilltop Avenue\, Kingston\, MA\, 02364\, United States
ATTACH;FMTTYPE=image/png:https://thevineyardchurch.tv/wp-content/uploads/2017/03/Power-of-a-Womans-Words.png
END:VEVENT
BEGIN:VEVENT
DTSTART;TZID=UTC:20250126T100000
DTEND;TZID=UTC:20250126T113000
DTSTAMP:20260423T070318
CREATED:20210713T144544Z
LAST-MODIFIED:20241212T161143Z
UID:9756-1737885600-1737891000@thevineyardchurch.tv
SUMMARY:Church Service
DESCRIPTION:
URL:https://thevineyardchurch.tv/event/church-service-1000am-68/
LOCATION:The Vineyard\, A Community Church\, 8 Hilltop Avenue\, Kingston\, MA\, 02364\, United States
END:VEVENT
BEGIN:VEVENT
DTSTART;TZID=UTC:20250128T183000
DTEND;TZID=UTC:20250128T203000
DTSTAMP:20260423T070318
CREATED:20241220T203543Z
LAST-MODIFIED:20250114T202320Z
UID:12454-1738089000-1738096200@thevineyardchurch.tv
SUMMARY:ESL Classes - AULAS ESL
DESCRIPTION:
URL:https://thevineyardchurch.tv/event/esl-classes-aulas-esl/
LOCATION:The Vineyard\, A Community Church\, 8 Hilltop Avenue\, Kingston\, MA\, 02364\, United States
ATTACH;FMTTYPE=image/png:https://thevineyardchurch.tv/wp-content/uploads/2025/01/ESL-4-Language-poster.png
END:VEVENT
END:VCALENDAR