BEGIN:VCALENDAR
VERSION:2.0
PRODID:-//The Vineyard - ECPv5.7.1//NONSGML v1.0//EN
CALSCALE:GREGORIAN
METHOD:PUBLISH
X-WR-CALNAME:The Vineyard
X-ORIGINAL-URL:https://thevineyardchurch.tv
X-WR-CALDESC:Events for The Vineyard
BEGIN:VTIMEZONE
TZID:UTC
BEGIN:STANDARD
TZOFFSETFROM:+0000
TZOFFSETTO:+0000
TZNAME:UTC
DTSTART:20240101T000000
END:STANDARD
END:VTIMEZONE
BEGIN:VEVENT
DTSTART;TZID=UTC:20240723T090000
DTEND;TZID=UTC:20240723T120000
DTSTAMP:20260425T124542
CREATED:20240606T150902Z
LAST-MODIFIED:20240606T151314Z
UID:11978-1721725200-1721736000@thevineyardchurch.tv
SUMMARY:SCUBA VBS
DESCRIPTION:
URL:https://thevineyardchurch.tv/event/scuba-vbs/
LOCATION:MA
ATTACH;FMTTYPE=image/png:https://thevineyardchurch.tv/wp-content/uploads/2024/06/SCUBA-WEB-3.png
END:VEVENT
BEGIN:VEVENT
DTSTART;TZID=UTC:20240724T090000
DTEND;TZID=UTC:20240724T120000
DTSTAMP:20260425T124542
CREATED:20240606T150950Z
LAST-MODIFIED:20240606T150950Z
UID:11980-1721811600-1721822400@thevineyardchurch.tv
SUMMARY:SCUBA VBS
DESCRIPTION:
URL:https://thevineyardchurch.tv/event/scuba-vbs-2/
LOCATION:MA
ATTACH;FMTTYPE=image/png:https://thevineyardchurch.tv/wp-content/uploads/2024/06/SCUBA-WEB-3.png
END:VEVENT
BEGIN:VEVENT
DTSTART;TZID=UTC:20240725T090000
DTEND;TZID=UTC:20240725T120000
DTSTAMP:20260425T124542
CREATED:20240606T151049Z
LAST-MODIFIED:20240606T151049Z
UID:11982-1721898000-1721908800@thevineyardchurch.tv
SUMMARY:SCUBA VBS
DESCRIPTION:
URL:https://thevineyardchurch.tv/event/scuba-vbs-3/
LOCATION:MA
ATTACH;FMTTYPE=image/png:https://thevineyardchurch.tv/wp-content/uploads/2024/06/SCUBA-WEB-3.png
END:VEVENT
BEGIN:VEVENT
DTSTART;TZID=UTC:20240726T090000
DTEND;TZID=UTC:20240726T120000
DTSTAMP:20260425T124542
CREATED:20240606T151214Z
LAST-MODIFIED:20240606T151214Z
UID:11984-1721984400-1721995200@thevineyardchurch.tv
SUMMARY:SCUBA VBS
DESCRIPTION:
URL:https://thevineyardchurch.tv/event/scuba-vbs-4/
LOCATION:MA
ATTACH;FMTTYPE=image/png:https://thevineyardchurch.tv/wp-content/uploads/2024/06/SCUBA-WEB-3.png
END:VEVENT
BEGIN:VEVENT
DTSTART;TZID=UTC:20240727T170000
DTEND;TZID=UTC:20240727T193000
DTSTAMP:20260425T124542
CREATED:20240607T145922Z
LAST-MODIFIED:20240607T145922Z
UID:11998-1722099600-1722108600@thevineyardchurch.tv
SUMMARY:Dinners with a Difference
DESCRIPTION:
URL:https://thevineyardchurch.tv/event/dinners-with-a-difference-2/
LOCATION:MA
ATTACH;FMTTYPE=image/png:https://thevineyardchurch.tv/wp-content/uploads/2024/06/Dinners-with-a-difference.png
END:VEVENT
END:VCALENDAR