BEGIN:VCALENDAR
VERSION:2.0
PRODID:-//The Vineyard - ECPv5.7.1//NONSGML v1.0//EN
CALSCALE:GREGORIAN
METHOD:PUBLISH
X-WR-CALNAME:The Vineyard
X-ORIGINAL-URL:https://thevineyardchurch.tv
X-WR-CALDESC:Events for The Vineyard
BEGIN:VTIMEZONE
TZID:UTC
BEGIN:STANDARD
TZOFFSETFROM:+0000
TZOFFSETTO:+0000
TZNAME:UTC
DTSTART:20230101T000000
END:STANDARD
END:VTIMEZONE
BEGIN:VEVENT
DTSTART;TZID=UTC:20230820T123000
DTEND;TZID=UTC:20230820T153000
DTSTAMP:20260421T095102
CREATED:20230721T194316Z
LAST-MODIFIED:20230721T194316Z
UID:11299-1692534600-1692545400@thevineyardchurch.tv
SUMMARY:Women's Ministry - Pool Party at Brenda Smith's House
DESCRIPTION:
URL:https://thevineyardchurch.tv/event/womens-ministry-pool-party-at-brenda-smiths-house/
LOCATION:MA
ATTACH;FMTTYPE=image/png:https://thevineyardchurch.tv/wp-content/uploads/2023/07/Womens-Website.png
END:VEVENT
END:VCALENDAR