BEGIN:VCALENDAR
VERSION:2.0
PRODID:-//The Vineyard - ECPv5.7.1//NONSGML v1.0//EN
CALSCALE:GREGORIAN
METHOD:PUBLISH
X-WR-CALNAME:The Vineyard
X-ORIGINAL-URL:https://thevineyardchurch.tv
X-WR-CALDESC:Events for The Vineyard
BEGIN:VTIMEZONE
TZID:UTC
BEGIN:STANDARD
TZOFFSETFROM:+0000
TZOFFSETTO:+0000
TZNAME:UTC
DTSTART:20260101T000000
END:STANDARD
END:VTIMEZONE
BEGIN:VEVENT
DTSTART;TZID=UTC:20260419T093000
DTEND;TZID=UTC:20260419T100000
DTSTAMP:20260419T200256
CREATED:20240423T145153Z
LAST-MODIFIED:20251211T144417Z
UID:11832-1776591000-1776592800@thevineyardchurch.tv
SUMMARY:Sunday Morning Prayer
DESCRIPTION:Sunday Morning Prayer is held in the Adult Ed. Room at 9:30 AM.
URL:https://thevineyardchurch.tv/event/sunday-morning-prayer-930-am-23/
LOCATION:The Vineyard\, A Community Church\, 8 Hilltop Avenue\, Kingston\, MA\, 02364\, United States
END:VEVENT
BEGIN:VEVENT
DTSTART;TZID=UTC:20260419T100000
DTEND;TZID=UTC:20260419T113000
DTSTAMP:20260419T200256
CREATED:20211217T192336Z
LAST-MODIFIED:20251211T145758Z
UID:10337-1776592800-1776598200@thevineyardchurch.tv
SUMMARY:Church Service
DESCRIPTION:
URL:https://thevineyardchurch.tv/event/church-service-10am-45/
LOCATION:The Vineyard\, A Community Church\, 8 Hilltop Avenue\, Kingston\, MA\, 02364\, United States
END:VEVENT
BEGIN:VEVENT
DTSTART;TZID=UTC:20260419T190000
DTEND;TZID=UTC:20260419T203000
DTSTAMP:20260419T200256
CREATED:20211217T190310Z
LAST-MODIFIED:20251211T152044Z
UID:10290-1776625200-1776630600@thevineyardchurch.tv
SUMMARY:Igreja Brasileira Vineyard
DESCRIPTION:
URL:https://thevineyardchurch.tv/event/igreja-brasileira-vineyard-7pm-68/
LOCATION:The Vineyard\, A Community Church\, 8 Hilltop Avenue\, Kingston\, MA\, 02364\, United States
END:VEVENT
BEGIN:VEVENT
DTSTART;TZID=UTC:20260420T163000
DTEND;TZID=UTC:20260420T183000
DTSTAMP:20260419T200256
CREATED:20220518T142141Z
LAST-MODIFIED:20251211T155255Z
UID:10712-1776702600-1776709800@thevineyardchurch.tv
SUMMARY:Careworks
DESCRIPTION:Careworks
URL:https://thevineyardchurch.tv/event/careworks-281/
LOCATION:The Vineyard\, A Community Church\, 8 Hilltop Avenue\, Kingston\, MA\, 02364\, United States
ATTACH;FMTTYPE=image/jpeg:https://thevineyardchurch.tv/wp-content/uploads/2017/05/Food-Pantry.jpg
END:VEVENT
BEGIN:VEVENT
DTSTART;TZID=UTC:20260421T100000
DTEND;TZID=UTC:20260421T130000
DTSTAMP:20260419T200256
CREATED:20220518T140705Z
LAST-MODIFIED:20251211T154325Z
UID:10678-1776765600-1776776400@thevineyardchurch.tv
SUMMARY:Careworks
DESCRIPTION:Careworks
URL:https://thevineyardchurch.tv/event/careworks-264/
LOCATION:The Vineyard\, A Community Church\, 8 Hilltop Avenue\, Kingston\, MA\, 02364\, United States
ATTACH;FMTTYPE=image/jpeg:https://thevineyardchurch.tv/wp-content/uploads/2017/05/Food-Pantry.jpg
END:VEVENT
BEGIN:VEVENT
DTSTART;TZID=UTC:20260424T073000
DTEND;TZID=UTC:20260424T083000
DTSTAMP:20260419T200256
CREATED:20240109T213249Z
LAST-MODIFIED:20251211T162151Z
UID:11545-1777015800-1777019400@thevineyardchurch.tv
SUMMARY:Men's Prayer
DESCRIPTION:
URL:https://thevineyardchurch.tv/event/mens-prayer-730-am-27/
LOCATION:The Vineyard\, A Community Church\, 8 Hilltop Avenue\, Kingston\, MA\, 02364\, United States
END:VEVENT
BEGIN:VEVENT
DTSTART;TZID=UTC:20260426T093000
DTEND;TZID=UTC:20260426T100000
DTSTAMP:20260419T200256
CREATED:20240423T145033Z
LAST-MODIFIED:20251211T144533Z
UID:11828-1777195800-1777197600@thevineyardchurch.tv
SUMMARY:Sunday Morning Prayer
DESCRIPTION:Sunday Morning Prayer is held in the Adult Ed. Room at 9:30 AM.
URL:https://thevineyardchurch.tv/event/sunday-morning-prayer-930-am-21/
LOCATION:The Vineyard\, A Community Church\, 8 Hilltop Avenue\, Kingston\, MA\, 02364\, United States
END:VEVENT
BEGIN:VEVENT
DTSTART;TZID=UTC:20260426T100000
DTEND;TZID=UTC:20260426T113000
DTSTAMP:20260419T200256
CREATED:20211217T192445Z
LAST-MODIFIED:20251211T145839Z
UID:10341-1777197600-1777203000@thevineyardchurch.tv
SUMMARY:Church Service
DESCRIPTION:
URL:https://thevineyardchurch.tv/event/church-service-10am-47/
LOCATION:The Vineyard\, A Community Church\, 8 Hilltop Avenue\, Kingston\, MA\, 02364\, United States
END:VEVENT
BEGIN:VEVENT
DTSTART;TZID=UTC:20260426T190000
DTEND;TZID=UTC:20260426T203000
DTSTAMP:20260419T200256
CREATED:20211217T190238Z
LAST-MODIFIED:20251211T152108Z
UID:10288-1777230000-1777235400@thevineyardchurch.tv
SUMMARY:Igreja Brasileira Vineyard
DESCRIPTION:
URL:https://thevineyardchurch.tv/event/igreja-brasileira-vineyard-7pm-67/
LOCATION:The Vineyard\, A Community Church\, 8 Hilltop Avenue\, Kingston\, MA\, 02364\, United States
END:VEVENT
BEGIN:VEVENT
DTSTART;TZID=UTC:20260427T163000
DTEND;TZID=UTC:20260427T183000
DTSTAMP:20260419T200256
CREATED:20220518T140508Z
LAST-MODIFIED:20251211T155442Z
UID:10674-1777307400-1777314600@thevineyardchurch.tv
SUMMARY:Careworks
DESCRIPTION:Careworks
URL:https://thevineyardchurch.tv/event/careworks-262/
LOCATION:The Vineyard\, A Community Church\, 8 Hilltop Avenue\, Kingston\, MA\, 02364\, United States
ATTACH;FMTTYPE=image/jpeg:https://thevineyardchurch.tv/wp-content/uploads/2017/05/Food-Pantry.jpg
END:VEVENT
BEGIN:VEVENT
DTSTART;TZID=UTC:20260501T073000
DTEND;TZID=UTC:20260501T083000
DTSTAMP:20260419T200256
CREATED:20240109T213222Z
LAST-MODIFIED:20251211T162214Z
UID:11543-1777620600-1777624200@thevineyardchurch.tv
SUMMARY:Men's Prayer
DESCRIPTION:
URL:https://thevineyardchurch.tv/event/mens-prayer-730-am-26/
LOCATION:The Vineyard\, A Community Church\, 8 Hilltop Avenue\, Kingston\, MA\, 02364\, United States
END:VEVENT
BEGIN:VEVENT
DTSTART;TZID=UTC:20260503T093000
DTEND;TZID=UTC:20260503T100000
DTSTAMP:20260419T200256
CREATED:20240423T145107Z
LAST-MODIFIED:20251211T144459Z
UID:11830-1777800600-1777802400@thevineyardchurch.tv
SUMMARY:Sunday Morning Prayer
DESCRIPTION:Sunday Morning Prayer is held in the Adult Ed. Room at 9:30 AM.
URL:https://thevineyardchurch.tv/event/sunday-morning-prayer-930-am-22/
LOCATION:The Vineyard\, A Community Church\, 8 Hilltop Avenue\, Kingston\, MA\, 02364\, United States
END:VEVENT
BEGIN:VEVENT
DTSTART;TZID=UTC:20260503T100000
DTEND;TZID=UTC:20260503T113000
DTSTAMP:20260419T200256
CREATED:20211217T192408Z
LAST-MODIFIED:20251211T145917Z
UID:10339-1777802400-1777807800@thevineyardchurch.tv
SUMMARY:Church Service
DESCRIPTION:
URL:https://thevineyardchurch.tv/event/church-service-10am-46/
LOCATION:The Vineyard\, A Community Church\, 8 Hilltop Avenue\, Kingston\, MA\, 02364\, United States
END:VEVENT
BEGIN:VEVENT
DTSTART;TZID=UTC:20260503T190000
DTEND;TZID=UTC:20260503T203000
DTSTAMP:20260419T200256
CREATED:20211217T185924Z
LAST-MODIFIED:20251211T152129Z
UID:10286-1777834800-1777840200@thevineyardchurch.tv
SUMMARY:Igreja Brasileira Vineyard
DESCRIPTION:
URL:https://thevineyardchurch.tv/event/igreja-brasileira-vineyard-7pm-66/
LOCATION:The Vineyard\, A Community Church\, 8 Hilltop Avenue\, Kingston\, MA\, 02364\, United States
END:VEVENT
BEGIN:VEVENT
DTSTART;TZID=UTC:20260504T163000
DTEND;TZID=UTC:20260504T183000
DTSTAMP:20260419T200256
CREATED:20220518T140409Z
LAST-MODIFIED:20251211T155531Z
UID:10672-1777912200-1777919400@thevineyardchurch.tv
SUMMARY:Careworks
DESCRIPTION:Careworks
URL:https://thevineyardchurch.tv/event/careworks-261/
LOCATION:The Vineyard\, A Community Church\, 8 Hilltop Avenue\, Kingston\, MA\, 02364\, United States
ATTACH;FMTTYPE=image/jpeg:https://thevineyardchurch.tv/wp-content/uploads/2017/05/Food-Pantry.jpg
END:VEVENT
BEGIN:VEVENT
DTSTART;TZID=UTC:20260505T100000
DTEND;TZID=UTC:20260505T130000
DTSTAMP:20260419T200256
CREATED:20220518T140552Z
LAST-MODIFIED:20251211T155201Z
UID:10676-1777975200-1777986000@thevineyardchurch.tv
SUMMARY:Careworks
DESCRIPTION:Careworks
URL:https://thevineyardchurch.tv/event/careworks-263/
LOCATION:The Vineyard\, A Community Church\, 8 Hilltop Avenue\, Kingston\, MA\, 02364\, United States
ATTACH;FMTTYPE=image/jpeg:https://thevineyardchurch.tv/wp-content/uploads/2017/05/Food-Pantry.jpg
END:VEVENT
BEGIN:VEVENT
DTSTART;TZID=UTC:20260508T073000
DTEND;TZID=UTC:20260508T083000
DTSTAMP:20260419T200256
CREATED:20240109T213159Z
LAST-MODIFIED:20251211T162237Z
UID:11541-1778225400-1778229000@thevineyardchurch.tv
SUMMARY:Men's Prayer
DESCRIPTION:
URL:https://thevineyardchurch.tv/event/mens-prayer-730-am-25/
LOCATION:The Vineyard\, A Community Church\, 8 Hilltop Avenue\, Kingston\, MA\, 02364\, United States
END:VEVENT
BEGIN:VEVENT
DTSTART;TZID=UTC:20260510T093000
DTEND;TZID=UTC:20260510T100000
DTSTAMP:20260419T200256
CREATED:20240423T144945Z
LAST-MODIFIED:20251211T144558Z
UID:11826-1778405400-1778407200@thevineyardchurch.tv
SUMMARY:Sunday Morning Prayer
DESCRIPTION:Sunday Morning Prayer is held in the Adult Ed. Room at 9:30 AM.
URL:https://thevineyardchurch.tv/event/sunday-morning-prayer-930-am-20/
LOCATION:The Vineyard\, A Community Church\, 8 Hilltop Avenue\, Kingston\, MA\, 02364\, United States
END:VEVENT
BEGIN:VEVENT
DTSTART;TZID=UTC:20260510T100000
DTEND;TZID=UTC:20260510T113000
DTSTAMP:20260419T200256
CREATED:20211217T192300Z
LAST-MODIFIED:20251211T145952Z
UID:10335-1778407200-1778412600@thevineyardchurch.tv
SUMMARY:Church Service
DESCRIPTION:
URL:https://thevineyardchurch.tv/event/church-service-10am-44/
LOCATION:The Vineyard\, A Community Church\, 8 Hilltop Avenue\, Kingston\, MA\, 02364\, United States
END:VEVENT
BEGIN:VEVENT
DTSTART;TZID=UTC:20260510T190000
DTEND;TZID=UTC:20260510T203000
DTSTAMP:20260419T200256
CREATED:20211217T185855Z
LAST-MODIFIED:20251211T152156Z
UID:10284-1778439600-1778445000@thevineyardchurch.tv
SUMMARY:Igreja Brasileira Vineyard
DESCRIPTION:
URL:https://thevineyardchurch.tv/event/igreja-brasileira-vineyard-7pm-65/
LOCATION:The Vineyard\, A Community Church\, 8 Hilltop Avenue\, Kingston\, MA\, 02364\, United States
END:VEVENT
BEGIN:VEVENT
DTSTART;TZID=UTC:20260511T163000
DTEND;TZID=UTC:20260511T183000
DTSTAMP:20260419T200256
CREATED:20220518T140240Z
LAST-MODIFIED:20251211T155646Z
UID:10668-1778517000-1778524200@thevineyardchurch.tv
SUMMARY:Careworks
DESCRIPTION:Careworks
URL:https://thevineyardchurch.tv/event/careworks-259/
LOCATION:The Vineyard\, A Community Church\, 8 Hilltop Avenue\, Kingston\, MA\, 02364\, United States
ATTACH;FMTTYPE=image/jpeg:https://thevineyardchurch.tv/wp-content/uploads/2017/05/Food-Pantry.jpg
END:VEVENT
BEGIN:VEVENT
DTSTART;TZID=UTC:20260512T100000
DTEND;TZID=UTC:20260512T130000
DTSTAMP:20260419T200256
CREATED:20220518T140321Z
LAST-MODIFIED:20251211T155604Z
UID:10670-1778580000-1778590800@thevineyardchurch.tv
SUMMARY:Careworks
DESCRIPTION:Careworks
URL:https://thevineyardchurch.tv/event/careworks-260/
LOCATION:The Vineyard\, A Community Church\, 8 Hilltop Avenue\, Kingston\, MA\, 02364\, United States
ATTACH;FMTTYPE=image/jpeg:https://thevineyardchurch.tv/wp-content/uploads/2017/05/Food-Pantry.jpg
END:VEVENT
BEGIN:VEVENT
DTSTART;TZID=UTC:20260515T073000
DTEND;TZID=UTC:20260515T083000
DTSTAMP:20260419T200256
CREATED:20240109T213138Z
LAST-MODIFIED:20251211T162308Z
UID:11539-1778830200-1778833800@thevineyardchurch.tv
SUMMARY:Men's Prayer
DESCRIPTION:
URL:https://thevineyardchurch.tv/event/mens-prayer-730-am-24/
LOCATION:The Vineyard\, A Community Church\, 8 Hilltop Avenue\, Kingston\, MA\, 02364\, United States
END:VEVENT
BEGIN:VEVENT
DTSTART;TZID=UTC:20260517T093000
DTEND;TZID=UTC:20260517T100000
DTSTAMP:20260419T200256
CREATED:20240423T144903Z
LAST-MODIFIED:20251211T144622Z
UID:11824-1779010200-1779012000@thevineyardchurch.tv
SUMMARY:Sunday Morning Prayer
DESCRIPTION:Sunday Morning Prayer is held in the Adult Ed. Room at 9:30 AM.
URL:https://thevineyardchurch.tv/event/sunday-morning-prayer-930-am-19/
LOCATION:The Vineyard\, A Community Church\, 8 Hilltop Avenue\, Kingston\, MA\, 02364\, United States
END:VEVENT
BEGIN:VEVENT
DTSTART;TZID=UTC:20260517T100000
DTEND;TZID=UTC:20260517T113000
DTSTAMP:20260419T200256
CREATED:20211217T192225Z
LAST-MODIFIED:20251211T150029Z
UID:10333-1779012000-1779017400@thevineyardchurch.tv
SUMMARY:Church Service
DESCRIPTION:
URL:https://thevineyardchurch.tv/event/church-service-10am-43/
LOCATION:The Vineyard\, A Community Church\, 8 Hilltop Avenue\, Kingston\, MA\, 02364\, United States
END:VEVENT
BEGIN:VEVENT
DTSTART;TZID=UTC:20260517T190000
DTEND;TZID=UTC:20260517T203000
DTSTAMP:20260419T200256
CREATED:20211217T185824Z
LAST-MODIFIED:20251211T152219Z
UID:10282-1779044400-1779049800@thevineyardchurch.tv
SUMMARY:Igreja Brasileira Vineyard
DESCRIPTION:
URL:https://thevineyardchurch.tv/event/igreja-brasileira-vineyard-7pm-64/
LOCATION:The Vineyard\, A Community Church\, 8 Hilltop Avenue\, Kingston\, MA\, 02364\, United States
END:VEVENT
BEGIN:VEVENT
DTSTART;TZID=UTC:20260518T163000
DTEND;TZID=UTC:20260518T183000
DTSTAMP:20260419T200256
CREATED:20220518T140103Z
LAST-MODIFIED:20251211T155719Z
UID:10664-1779121800-1779129000@thevineyardchurch.tv
SUMMARY:Careworks
DESCRIPTION:Careworks
URL:https://thevineyardchurch.tv/event/careworks-257/
LOCATION:The Vineyard\, A Community Church\, 8 Hilltop Avenue\, Kingston\, MA\, 02364\, United States
ATTACH;FMTTYPE=image/jpeg:https://thevineyardchurch.tv/wp-content/uploads/2017/05/Food-Pantry.jpg
END:VEVENT
BEGIN:VEVENT
DTSTART;TZID=UTC:20260519T100000
DTEND;TZID=UTC:20260519T130000
DTSTAMP:20260419T200256
CREATED:20220518T140144Z
LAST-MODIFIED:20251211T155750Z
UID:10666-1779184800-1779195600@thevineyardchurch.tv
SUMMARY:Careworks
DESCRIPTION:Careworks
URL:https://thevineyardchurch.tv/event/careworks-258/
LOCATION:The Vineyard\, A Community Church\, 8 Hilltop Avenue\, Kingston\, MA\, 02364\, United States
ATTACH;FMTTYPE=image/jpeg:https://thevineyardchurch.tv/wp-content/uploads/2017/05/Food-Pantry.jpg
END:VEVENT
BEGIN:VEVENT
DTSTART;TZID=UTC:20260522T073000
DTEND;TZID=UTC:20260522T083000
DTSTAMP:20260419T200256
CREATED:20240109T213112Z
LAST-MODIFIED:20251211T162338Z
UID:11537-1779435000-1779438600@thevineyardchurch.tv
SUMMARY:Men's Prayer
DESCRIPTION:
URL:https://thevineyardchurch.tv/event/mens-prayer-730-am-23/
LOCATION:The Vineyard\, A Community Church\, 8 Hilltop Avenue\, Kingston\, MA\, 02364\, United States
END:VEVENT
BEGIN:VEVENT
DTSTART;TZID=UTC:20260524T093000
DTEND;TZID=UTC:20260524T100000
DTSTAMP:20260419T200256
CREATED:20240423T144824Z
LAST-MODIFIED:20251211T144646Z
UID:11822-1779615000-1779616800@thevineyardchurch.tv
SUMMARY:Sunday Morning Prayer
DESCRIPTION:Sunday Morning Prayer is held in the Adult Ed. Room at 9:30 AM.
URL:https://thevineyardchurch.tv/event/sunday-morning-prayer-930-am-18/
LOCATION:The Vineyard\, A Community Church\, 8 Hilltop Avenue\, Kingston\, MA\, 02364\, United States
END:VEVENT
END:VCALENDAR