BEGIN:VCALENDAR
VERSION:2.0
PRODID:-//The Vineyard - ECPv5.7.1//NONSGML v1.0//EN
CALSCALE:GREGORIAN
METHOD:PUBLISH
X-WR-CALNAME:The Vineyard
X-ORIGINAL-URL:https://thevineyardchurch.tv
X-WR-CALDESC:Events for The Vineyard
BEGIN:VTIMEZONE
TZID:UTC
BEGIN:STANDARD
TZOFFSETFROM:+0000
TZOFFSETTO:+0000
TZNAME:UTC
DTSTART:20260101T000000
END:STANDARD
END:VTIMEZONE
BEGIN:VEVENT
DTSTART;TZID=UTC:20260524T093000
DTEND;TZID=UTC:20260524T100000
DTSTAMP:20260419T201043
CREATED:20240423T144824Z
LAST-MODIFIED:20251211T144646Z
UID:11822-1779615000-1779616800@thevineyardchurch.tv
SUMMARY:Sunday Morning Prayer
DESCRIPTION:Sunday Morning Prayer is held in the Adult Ed. Room at 9:30 AM.
URL:https://thevineyardchurch.tv/event/sunday-morning-prayer-930-am-18/
LOCATION:The Vineyard\, A Community Church\, 8 Hilltop Avenue\, Kingston\, MA\, 02364\, United States
END:VEVENT
BEGIN:VEVENT
DTSTART;TZID=UTC:20260524T100000
DTEND;TZID=UTC:20260524T113000
DTSTAMP:20260419T201043
CREATED:20211217T192159Z
LAST-MODIFIED:20251211T150103Z
UID:10331-1779616800-1779622200@thevineyardchurch.tv
SUMMARY:Church Service
DESCRIPTION:
URL:https://thevineyardchurch.tv/event/church-service-10am-42/
LOCATION:The Vineyard\, A Community Church\, 8 Hilltop Avenue\, Kingston\, MA\, 02364\, United States
END:VEVENT
END:VCALENDAR