BEGIN:VCALENDAR
VERSION:2.0
PRODID:-//The Vineyard - ECPv5.7.1//NONSGML v1.0//EN
CALSCALE:GREGORIAN
METHOD:PUBLISH
X-WR-CALNAME:The Vineyard
X-ORIGINAL-URL:https://thevineyardchurch.tv
X-WR-CALDESC:Events for The Vineyard
BEGIN:VTIMEZONE
TZID:UTC
BEGIN:STANDARD
TZOFFSETFROM:+0000
TZOFFSETTO:+0000
TZNAME:UTC
DTSTART:20250101T000000
END:STANDARD
END:VTIMEZONE
BEGIN:VEVENT
DTSTART;TZID=UTC:20250723T090000
DTEND;TZID=UTC:20250723T120000
DTSTAMP:20260423T025254
CREATED:20250515T163322Z
LAST-MODIFIED:20250516T200144Z
UID:12945-1753261200-1753272000@thevineyardchurch.tv
SUMMARY:True North VBS
DESCRIPTION:
URL:https://thevineyardchurch.tv/event/true-north-vbs-2/
LOCATION:The Vineyard\, A Community Church\, 8 Hilltop Avenue\, Kingston\, MA\, 02364\, United States
ATTACH;FMTTYPE=image/png:https://thevineyardchurch.tv/wp-content/uploads/2025/05/Untitled-6.png
END:VEVENT
BEGIN:VEVENT
DTSTART;TZID=UTC:20250723T183000
DTEND;TZID=UTC:20250723T200000
DTSTAMP:20260423T025254
CREATED:20211217T202901Z
LAST-MODIFIED:20250424T151753Z
UID:10395-1753295400-1753300800@thevineyardchurch.tv
SUMMARY:Men's Celebrate Recovery
DESCRIPTION:Men’s Celebrate Recovery
URL:https://thevineyardchurch.tv/event/celebrate-recovery-3/
LOCATION:The Vineyard\, A Community Church\, 8 Hilltop Avenue\, Kingston\, MA\, 02364\, United States
ATTACH;FMTTYPE=image/png:https://thevineyardchurch.tv/wp-content/uploads/2021/12/celebrate-recovery-pic.png
END:VEVENT
END:VCALENDAR