BEGIN:VCALENDAR
VERSION:2.0
PRODID:-//The Vineyard - ECPv5.7.1//NONSGML v1.0//EN
CALSCALE:GREGORIAN
METHOD:PUBLISH
X-WR-CALNAME:The Vineyard
X-ORIGINAL-URL:https://thevineyardchurch.tv
X-WR-CALDESC:Events for The Vineyard
BEGIN:VTIMEZONE
TZID:UTC
BEGIN:STANDARD
TZOFFSETFROM:+0000
TZOFFSETTO:+0000
TZNAME:UTC
DTSTART:20250101T000000
END:STANDARD
END:VTIMEZONE
BEGIN:VEVENT
DTSTART;TZID=UTC:20250623T163000
DTEND;TZID=UTC:20250623T190000
DTSTAMP:20260423T014702
CREATED:20211217T205331Z
LAST-MODIFIED:20250416T174459Z
UID:10434-1750696200-1750705200@thevineyardchurch.tv
SUMMARY:Careworks
DESCRIPTION:Careworks
URL:https://thevineyardchurch.tv/event/careworks-241/
LOCATION:The Vineyard\, A Community Church\, 8 Hilltop Avenue\, Kingston\, MA\, 02364\, United States
END:VEVENT
END:VCALENDAR