BEGIN:VCALENDAR
VERSION:2.0
PRODID:-//The Vineyard - ECPv5.7.1//NONSGML v1.0//EN
CALSCALE:GREGORIAN
METHOD:PUBLISH
X-WR-CALNAME:The Vineyard
X-ORIGINAL-URL:https://thevineyardchurch.tv
X-WR-CALDESC:Events for The Vineyard
BEGIN:VTIMEZONE
TZID:UTC
BEGIN:STANDARD
TZOFFSETFROM:+0000
TZOFFSETTO:+0000
TZNAME:UTC
DTSTART:20250101T000000
END:STANDARD
END:VTIMEZONE
BEGIN:VEVENT
DTSTART;TZID=UTC:20250525T093000
DTEND;TZID=UTC:20250525T100000
DTSTAMP:20260423T025834
CREATED:20240423T144127Z
LAST-MODIFIED:20241217T211212Z
UID:11808-1748165400-1748167200@thevineyardchurch.tv
SUMMARY:Sunday Morning Prayer
DESCRIPTION:Sunday Morning Prayer is held in the Adult Ed. Room at 9:30 AM.
URL:https://thevineyardchurch.tv/event/sunday-morning-prayer-930-am-11/
LOCATION:The Vineyard\, A Community Church\, 8 Hilltop Avenue\, Kingston\, MA\, 02364\, United States
END:VEVENT
BEGIN:VEVENT
DTSTART;TZID=UTC:20250525T100000
DTEND;TZID=UTC:20250525T113000
DTSTAMP:20260423T025834
CREATED:20210713T142903Z
LAST-MODIFIED:20241212T161441Z
UID:9720-1748167200-1748172600@thevineyardchurch.tv
SUMMARY:Church Service
DESCRIPTION:
URL:https://thevineyardchurch.tv/event/church-service-1000am-53/
LOCATION:The Vineyard\, A Community Church\, 8 Hilltop Avenue\, Kingston\, MA\, 02364\, United States
END:VEVENT
END:VCALENDAR