BEGIN:VCALENDAR
VERSION:2.0
PRODID:-//The Vineyard - ECPv5.7.1//NONSGML v1.0//EN
CALSCALE:GREGORIAN
METHOD:PUBLISH
X-WR-CALNAME:The Vineyard
X-ORIGINAL-URL:https://thevineyardchurch.tv
X-WR-CALDESC:Events for The Vineyard
BEGIN:VTIMEZONE
TZID:UTC
BEGIN:STANDARD
TZOFFSETFROM:+0000
TZOFFSETTO:+0000
TZNAME:UTC
DTSTART:20250101T000000
END:STANDARD
END:VTIMEZONE
BEGIN:VEVENT
DTSTART;TZID=UTC:20250112T100000
DTEND;TZID=UTC:20250112T113000
DTSTAMP:20260423T081736
CREATED:20210713T144759Z
LAST-MODIFIED:20241212T161128Z
UID:9762-1736676000-1736681400@thevineyardchurch.tv
SUMMARY:Church Service
DESCRIPTION:
URL:https://thevineyardchurch.tv/event/church-service-1000am-73/
LOCATION:The Vineyard\, A Community Church\, 8 Hilltop Avenue\, Kingston\, MA\, 02364\, United States
END:VEVENT
BEGIN:VEVENT
DTSTART;TZID=UTC:20250112T114500
DTEND;TZID=UTC:20250112T140000
DTSTAMP:20260423T081736
CREATED:20241218T155814Z
LAST-MODIFIED:20241218T155814Z
UID:12447-1736682300-1736690400@thevineyardchurch.tv
SUMMARY:Women's Ministry "Soak in Jesus" Lunch
DESCRIPTION:
URL:https://thevineyardchurch.tv/event/womens-ministry-soak-in-jesus-lunch/
LOCATION:The Vineyard\, A Community Church\, 8 Hilltop Avenue\, Kingston\, MA\, 02364\, United States
ATTACH;FMTTYPE=image/png:https://thevineyardchurch.tv/wp-content/uploads/2024/12/Womens-Jan-12-w.png
END:VEVENT
END:VCALENDAR