BEGIN:VCALENDAR
VERSION:2.0
PRODID:-//The Vineyard - ECPv5.7.1//NONSGML v1.0//EN
CALSCALE:GREGORIAN
METHOD:PUBLISH
X-WR-CALNAME:The Vineyard
X-ORIGINAL-URL:https://thevineyardchurch.tv
X-WR-CALDESC:Events for The Vineyard
BEGIN:VTIMEZONE
TZID:UTC
BEGIN:STANDARD
TZOFFSETFROM:+0000
TZOFFSETTO:+0000
TZNAME:UTC
DTSTART:20240101T000000
END:STANDARD
END:VTIMEZONE
BEGIN:VEVENT
DTSTART;TZID=UTC:20241215T143000
DTEND;TZID=UTC:20241215T160000
DTSTAMP:20260423T101406
CREATED:20241127T162241Z
LAST-MODIFIED:20241127T162241Z
UID:12254-1734273000-1734278400@thevineyardchurch.tv
SUMMARY:Christmas Caroling at Bay Path @ 2:30 pm
DESCRIPTION:
URL:https://thevineyardchurch.tv/event/christmas-caroling-at-bay-path-230-pm/
LOCATION:MA
ATTACH;FMTTYPE=image/png:https://thevineyardchurch.tv/wp-content/uploads/2024/11/Christmas-Caroling.png
END:VEVENT
END:VCALENDAR