BEGIN:VCALENDAR
VERSION:2.0
PRODID:-//The Vineyard - ECPv5.7.1//NONSGML v1.0//EN
CALSCALE:GREGORIAN
METHOD:PUBLISH
X-WR-CALNAME:The Vineyard
X-ORIGINAL-URL:https://thevineyardchurch.tv
X-WR-CALDESC:Events for The Vineyard
BEGIN:VTIMEZONE
TZID:UTC
BEGIN:STANDARD
TZOFFSETFROM:+0000
TZOFFSETTO:+0000
TZNAME:UTC
DTSTART:20240101T000000
END:STANDARD
END:VTIMEZONE
BEGIN:VEVENT
DTSTART;TZID=UTC:20241204T100000
DTEND;TZID=UTC:20241204T113000
DTSTAMP:20260423T114905
CREATED:20241009T154852Z
LAST-MODIFIED:20241009T154852Z
UID:12200-1733306400-1733311800@thevineyardchurch.tv
SUMMARY:Women's ZOOM Bible Study @ 10 AM
DESCRIPTION:Women’s ZOOM Bible Study at 10:00 AM \nContact Kathy Lovell or Brenda Smith for more information:                 \nKathy Lovell  508-982-4808   krclovell@aol.com \nBrenda Smith 508-345-3678   lemonzap@aol.com
URL:https://thevineyardchurch.tv/event/womens-zoom-bible-study-10-am-7/
LOCATION:MA
END:VEVENT
BEGIN:VEVENT
DTSTART;TZID=UTC:20241204T180000
DTEND;TZID=UTC:20241204T200000
DTSTAMP:20260423T114905
CREATED:20240911T155948Z
LAST-MODIFIED:20241009T180638Z
UID:12043-1733335200-1733342400@thevineyardchurch.tv
SUMMARY:Sunflower Tool - Spiritual Transformation Training Series
DESCRIPTION:
URL:https://thevineyardchurch.tv/event/sunflower-tool-spiritual-transformation-training-series-4/
LOCATION:MA
ATTACH;FMTTYPE=image/png:https://thevineyardchurch.tv/wp-content/uploads/2024/10/Sunflower-Class-pic.png
END:VEVENT
END:VCALENDAR