BEGIN:VCALENDAR
VERSION:2.0
PRODID:-//The Vineyard - ECPv5.7.1//NONSGML v1.0//EN
CALSCALE:GREGORIAN
METHOD:PUBLISH
X-WR-CALNAME:The Vineyard
X-ORIGINAL-URL:https://thevineyardchurch.tv
X-WR-CALDESC:Events for The Vineyard
BEGIN:VTIMEZONE
TZID:UTC
BEGIN:STANDARD
TZOFFSETFROM:+0000
TZOFFSETTO:+0000
TZNAME:UTC
DTSTART:20240101T000000
END:STANDARD
END:VTIMEZONE
BEGIN:VEVENT
DTSTART;TZID=UTC:20241125T183000
DTEND;TZID=UTC:20241125T200000
DTSTAMP:20260423T113956
CREATED:20241009T153223Z
LAST-MODIFIED:20241009T153223Z
UID:12181-1732559400-1732564800@thevineyardchurch.tv
SUMMARY:The Power of a Woman's Words Bible Study
DESCRIPTION:The Power of a Woman’s Words\, Book and Study Guide by Sharon Jaynes \nBegins Monday\, October 28th at 6:30 pm – 8:00 pm\, (meets every other Monday night). \nUse your words to instill courage\, express confidence\, and share Christ! Guided by Sharon Jaynes\, you’ll journey alongside women of the Bible as you learn to become a source of encouragement\, offer helpful instruction\, bring healing through your message\, and give the gift of loving kindness to a hurting world. \nThe book and study guide can be purchased at the church for $15.50\, just ask Leavitt or Sandra G. \nLeavitt – info@thevineyardkingston.org or 781-588-7162 \nSandra – 781-888-0154
URL:https://thevineyardchurch.tv/event/the-power-of-a-womans-words-bible-study-3/
LOCATION:MA
ATTACH;FMTTYPE=image/png:https://thevineyardchurch.tv/wp-content/uploads/2017/03/Power-of-a-Womans-Words.png
END:VEVENT
END:VCALENDAR