BEGIN:VCALENDAR
VERSION:2.0
PRODID:-//The Vineyard - ECPv5.7.1//NONSGML v1.0//EN
CALSCALE:GREGORIAN
METHOD:PUBLISH
X-WR-CALNAME:The Vineyard
X-ORIGINAL-URL:https://thevineyardchurch.tv
X-WR-CALDESC:Events for The Vineyard
BEGIN:VTIMEZONE
TZID:UTC
BEGIN:STANDARD
TZOFFSETFROM:+0000
TZOFFSETTO:+0000
TZNAME:UTC
DTSTART:20240101T000000
END:STANDARD
END:VTIMEZONE
BEGIN:VEVENT
DTSTART;TZID=UTC:20241016T100000
DTEND;TZID=UTC:20241016T113000
DTSTAMP:20260425T124355
CREATED:20241009T153731Z
LAST-MODIFIED:20241009T153731Z
UID:12188-1729072800-1729078200@thevineyardchurch.tv
SUMMARY:Women's ZOOM Bible Study @ 10 AM
DESCRIPTION:Women’s ZOOM Bible Study at 10:00 AM \nContact Kathy Lovell or Brenda Smith for more information:                 \nKathy Lovell  508-982-4808   krclovell@aol.com \nBrenda Smith 508-345-3678   lemonzap@aol.com
URL:https://thevineyardchurch.tv/event/womens-zoom-bible-study-10-am/
LOCATION:MA
END:VEVENT
BEGIN:VEVENT
DTSTART;TZID=UTC:20241016T180000
DTEND;TZID=UTC:20241016T200000
DTSTAMP:20260425T124355
CREATED:20240911T155837Z
LAST-MODIFIED:20241009T180721Z
UID:12039-1729101600-1729108800@thevineyardchurch.tv
SUMMARY:Sunflower Tool - Spiritual Transformation Training Series
DESCRIPTION:
URL:https://thevineyardchurch.tv/event/sunflower-tool-spiritual-transformation-training-series-2/
LOCATION:MA
ATTACH;FMTTYPE=image/png:https://thevineyardchurch.tv/wp-content/uploads/2024/10/Sunflower-Class-pic.png
END:VEVENT
END:VCALENDAR