BEGIN:VCALENDAR
VERSION:2.0
PRODID:-//The Vineyard - ECPv5.7.1//NONSGML v1.0//EN
CALSCALE:GREGORIAN
METHOD:PUBLISH
X-WR-CALNAME:The Vineyard
X-ORIGINAL-URL:https://thevineyardchurch.tv
X-WR-CALDESC:Events for The Vineyard
BEGIN:VTIMEZONE
TZID:UTC
BEGIN:STANDARD
TZOFFSETFROM:+0000
TZOFFSETTO:+0000
TZNAME:UTC
DTSTART:20240101T000000
END:STANDARD
END:VTIMEZONE
BEGIN:VEVENT
DTSTART;TZID=UTC:20240922T131500
DTEND;TZID=UTC:20240922T150000
DTSTAMP:20260425T141406
CREATED:20240823T192621Z
LAST-MODIFIED:20240823T192718Z
UID:12026-1727010900-1727017200@thevineyardchurch.tv
SUMMARY:Hearing God's Voice
DESCRIPTION:
URL:https://thevineyardchurch.tv/event/hearing-gods-voice/
LOCATION:MA
ATTACH;FMTTYPE=image/png:https://thevineyardchurch.tv/wp-content/uploads/2024/08/Hearing-web.png
END:VEVENT
BEGIN:VEVENT
DTSTART;TZID=UTC:20240922T183000
DTEND;TZID=UTC:20240922T200000
DTSTAMP:20260425T141406
CREATED:20240917T135238Z
LAST-MODIFIED:20240917T135238Z
UID:12092-1727029800-1727035200@thevineyardchurch.tv
SUMMARY:Glory of God at 6:30 pm
DESCRIPTION:
URL:https://thevineyardchurch.tv/event/glory-of-god-at-630-pm/
LOCATION:MA
ATTACH;FMTTYPE=image/png:https://thevineyardchurch.tv/wp-content/uploads/2024/09/GLORY-OF-GOD.png
END:VEVENT
END:VCALENDAR