BEGIN:VCALENDAR
VERSION:2.0
PRODID:-//The Vineyard - ECPv5.7.1//NONSGML v1.0//EN
CALSCALE:GREGORIAN
METHOD:PUBLISH
X-WR-CALNAME:The Vineyard
X-ORIGINAL-URL:https://thevineyardchurch.tv
X-WR-CALDESC:Events for The Vineyard
BEGIN:VTIMEZONE
TZID:UTC
BEGIN:STANDARD
TZOFFSETFROM:+0000
TZOFFSETTO:+0000
TZNAME:UTC
DTSTART:20240101T000000
END:STANDARD
END:VTIMEZONE
BEGIN:VEVENT
DTSTART;TZID=UTC:20240918T180000
DTEND;TZID=UTC:20240918T200000
DTSTAMP:20260425T153601
CREATED:20240911T155754Z
LAST-MODIFIED:20240911T155754Z
UID:12037-1726682400-1726689600@thevineyardchurch.tv
SUMMARY:Sunflower Tool - Spiritual Transformation Training Series
DESCRIPTION:
URL:https://thevineyardchurch.tv/event/sunflower-tool-spiritual-transformation-training-series/
LOCATION:MA
ATTACH;FMTTYPE=image/png:https://thevineyardchurch.tv/wp-content/uploads/2024/09/Sunflower-Poster-Class-1.png
END:VEVENT
END:VCALENDAR