BEGIN:VCALENDAR
VERSION:2.0
PRODID:-//The Vineyard - ECPv5.7.1//NONSGML v1.0//EN
CALSCALE:GREGORIAN
METHOD:PUBLISH
X-WR-CALNAME:The Vineyard
X-ORIGINAL-URL:https://thevineyardchurch.tv
X-WR-CALDESC:Events for The Vineyard
BEGIN:VTIMEZONE
TZID:UTC
BEGIN:STANDARD
TZOFFSETFROM:+0000
TZOFFSETTO:+0000
TZNAME:UTC
DTSTART:20230101T000000
END:STANDARD
END:VTIMEZONE
BEGIN:VEVENT
DTSTART;TZID=UTC:20230616T190000
DTEND;TZID=UTC:20230616T210000
DTSTAMP:20260425T115924
CREATED:20230602T194031Z
LAST-MODIFIED:20230602T194031Z
UID:11261-1686942000-1686949200@thevineyardchurch.tv
SUMMARY:Game Night @ 7 pm
DESCRIPTION:
URL:https://thevineyardchurch.tv/event/game-night-7-pm/
LOCATION:MA
ATTACH;FMTTYPE=image/png:https://thevineyardchurch.tv/wp-content/uploads/2023/06/Game-Night-1.png
END:VEVENT
END:VCALENDAR