BEGIN:VCALENDAR
VERSION:2.0
PRODID:-//The Vineyard - ECPv5.7.1//NONSGML v1.0//EN
CALSCALE:GREGORIAN
METHOD:PUBLISH
X-WR-CALNAME:The Vineyard
X-ORIGINAL-URL:https://thevineyardchurch.tv
X-WR-CALDESC:Events for The Vineyard
BEGIN:VTIMEZONE
TZID:UTC
BEGIN:STANDARD
TZOFFSETFROM:+0000
TZOFFSETTO:+0000
TZNAME:UTC
DTSTART:20230101T000000
END:STANDARD
END:VTIMEZONE
BEGIN:VEVENT
DTSTART;TZID=UTC:20230611T113000
DTEND;TZID=UTC:20230611T150000
DTSTAMP:20260425T151026
CREATED:20230413T135808Z
LAST-MODIFIED:20230525T193407Z
UID:11165-1686483000-1686495600@thevineyardchurch.tv
SUMMARY:Men's Ministry - Boat House BBQ
DESCRIPTION:
URL:https://thevineyardchurch.tv/event/mens-ministry-bbq-after-church/
LOCATION:MA
ATTACH;FMTTYPE=image/png:https://thevineyardchurch.tv/wp-content/uploads/2023/05/Mens-BBQ.png
END:VEVENT
BEGIN:VEVENT
DTSTART;TZID=UTC:20230611T153000
DTEND;TZID=UTC:20230611T173000
DTSTAMP:20260425T151026
CREATED:20230525T194035Z
LAST-MODIFIED:20230525T194035Z
UID:11244-1686497400-1686504600@thevineyardchurch.tv
SUMMARY:Women's Ministry - Strawberry Shortcake Festival
DESCRIPTION:
URL:https://thevineyardchurch.tv/event/womens-ministry-strawberry-shortcake-festival/
LOCATION:MA
ATTACH;FMTTYPE=image/png:https://thevineyardchurch.tv/wp-content/uploads/2023/05/Womens-June.png
END:VEVENT
END:VCALENDAR