BEGIN:VCALENDAR
VERSION:2.0
PRODID:-//The Vineyard - ECPv5.7.1//NONSGML v1.0//EN
CALSCALE:GREGORIAN
METHOD:PUBLISH
X-WR-CALNAME:The Vineyard
X-ORIGINAL-URL:https://thevineyardchurch.tv
X-WR-CALDESC:Events for The Vineyard
BEGIN:VTIMEZONE
TZID:UTC
BEGIN:STANDARD
TZOFFSETFROM:+0000
TZOFFSETTO:+0000
TZNAME:UTC
DTSTART:20240101T000000
END:STANDARD
END:VTIMEZONE
BEGIN:VEVENT
DTSTART;TZID=UTC:20241030T100000
DTEND;TZID=UTC:20241030T113000
DTSTAMP:20260421T125141
CREATED:20241009T153904Z
LAST-MODIFIED:20241009T154721Z
UID:12190-1730282400-1730287800@thevineyardchurch.tv
SUMMARY:Women's ZOOM Bible Study @ 10 AM
DESCRIPTION:Women’s ZOOM Bible Study at 10:00 AM \nContact Kathy Lovell or Brenda Smith for more information:                 \nKathy Lovell  508-982-4808   krclovell@aol.com \nBrenda Smith 508-345-3678   lemonzap@aol.com
URL:https://thevineyardchurch.tv/event/womens-zoom-bible-study-10-am-2/
END:VEVENT
END:VCALENDAR