BEGIN:VCALENDAR
VERSION:2.0
PRODID:-//The Vineyard - ECPv5.7.1//NONSGML v1.0//EN
CALSCALE:GREGORIAN
METHOD:PUBLISH
X-WR-CALNAME:The Vineyard
X-ORIGINAL-URL:https://thevineyardchurch.tv
X-WR-CALDESC:Events for The Vineyard
BEGIN:VTIMEZONE
TZID:UTC
BEGIN:STANDARD
TZOFFSETFROM:+0000
TZOFFSETTO:+0000
TZNAME:UTC
DTSTART:20240101T000000
END:STANDARD
END:VTIMEZONE
BEGIN:VEVENT
DTSTART;TZID=UTC:20240218T120000
DTEND;TZID=UTC:20240218T140000
DTSTAMP:20260421T095406
CREATED:20240125T170042Z
LAST-MODIFIED:20240125T170042Z
UID:11656-1708257600-1708264800@thevineyardchurch.tv
SUMMARY:Women's Ministry Valentine's Celebration @ 12 pm
DESCRIPTION:
URL:https://thevineyardchurch.tv/event/womens-ministry-valentines-celebration-12-pm/
ATTACH;FMTTYPE=image/png:https://thevineyardchurch.tv/wp-content/uploads/2024/01/Womens-Valentines-Feb-18.png
END:VEVENT
END:VCALENDAR