BEGIN:VCALENDAR
VERSION:2.0
PRODID:-//The Vineyard - ECPv5.7.1//NONSGML v1.0//EN
CALSCALE:GREGORIAN
METHOD:PUBLISH
X-WR-CALNAME:The Vineyard
X-ORIGINAL-URL:https://thevineyardchurch.tv
X-WR-CALDESC:Events for The Vineyard
BEGIN:VTIMEZONE
TZID:UTC
BEGIN:STANDARD
TZOFFSETFROM:+0000
TZOFFSETTO:+0000
TZNAME:UTC
DTSTART:20220101T000000
END:STANDARD
END:VTIMEZONE
BEGIN:VEVENT
DTSTART;TZID=UTC:20220612T130000
DTEND;TZID=UTC:20220612T153000
DTSTAMP:20260421T125642
CREATED:20220518T153552Z
LAST-MODIFIED:20220518T153618Z
UID:10734-1655038800-1655047800@thevineyardchurch.tv
SUMMARY:Women's Ministry - Pool Party at Cathy Acampora's House
DESCRIPTION:
URL:https://thevineyardchurch.tv/event/womens-ministry-pool-party-at-cathy-acamporas-house/
END:VEVENT
END:VCALENDAR