BEGIN:VCALENDAR
VERSION:2.0
PRODID:-//The Vineyard - ECPv5.7.1//NONSGML v1.0//EN
CALSCALE:GREGORIAN
METHOD:PUBLISH
X-WR-CALNAME:The Vineyard
X-ORIGINAL-URL:https://thevineyardchurch.tv
X-WR-CALDESC:Events for The Vineyard
BEGIN:VTIMEZONE
TZID:UTC
BEGIN:STANDARD
TZOFFSETFROM:+0000
TZOFFSETTO:+0000
TZNAME:UTC
DTSTART:20230101T000000
END:STANDARD
END:VTIMEZONE
BEGIN:VEVENT
DTSTART;TZID=UTC:20230319T120000
DTEND;TZID=UTC:20230319T140000
DTSTAMP:20260421T111915
CREATED:20230302T163353Z
LAST-MODIFIED:20230302T163353Z
UID:11102-1679227200-1679234400@thevineyardchurch.tv
SUMMARY:Women's Ministry Event
DESCRIPTION:Sunday\, March 19 after church (around noon) \nThe day’s speaker will be Sharon Quesnel\, talking about flagging!! \nTopics she will cover: the meaning of flags\, their colors\, anointing and flags in worship!! Sharon will also be talking about the powerful anointing that is entrusted to all those who flag and are called to be Standard Bearers for the Kings of Kings…Exodus 17:15 – Moses built an altar and called it The Lord is my Banner.  Psalm 20:5 – We will sing for joy over your victory. And in the name of our God we will set up our banners. Psalm 116:16-17 – Lord because I am your loving servant\, you have broken open my life and freed me from my chains. Now\, I’ll worship you passionately & bring to you my sacrifice of praise\, drenched with Thanksgiving!! \nThere will be a sign up at the Welcome Center and you can choose a specified food or beverage item to bring to the event. \n  \n**LUNCH: You can always bring your own lunch at these events\, but please wait to eat with everyone as we come together in unison. \n 
URL:https://thevineyardchurch.tv/event/womens-ministry-event-2/
ATTACH;FMTTYPE=image/png:https://thevineyardchurch.tv/wp-content/uploads/2023/03/Womens-Ministry-March.png
END:VEVENT
END:VCALENDAR