BEGIN:VCALENDAR
VERSION:2.0
PRODID:-//The Vineyard - ECPv5.7.1//NONSGML v1.0//EN
CALSCALE:GREGORIAN
METHOD:PUBLISH
X-WR-CALNAME:The Vineyard
X-ORIGINAL-URL:https://thevineyardchurch.tv
X-WR-CALDESC:Events for The Vineyard
BEGIN:VTIMEZONE
TZID:UTC
BEGIN:STANDARD
TZOFFSETFROM:+0000
TZOFFSETTO:+0000
TZNAME:UTC
DTSTART:20230101T000000
END:STANDARD
END:VTIMEZONE
BEGIN:VEVENT
DTSTART;TZID=UTC:20230415T100000
DTEND;TZID=UTC:20230415T120000
DTSTAMP:20260419T172928
CREATED:20230321T171759Z
LAST-MODIFIED:20230321T183415Z
UID:11135-1681552800-1681560000@thevineyardchurch.tv
SUMMARY:Women's Ministry Brunch
DESCRIPTION:
URL:https://thevineyardchurch.tv/event/womens-ministry-brunch/
ATTACH;FMTTYPE=image/png:https://thevineyardchurch.tv/wp-content/uploads/2023/03/Womens-Brunch.png
END:VEVENT
END:VCALENDAR