BEGIN:VCALENDAR
VERSION:2.0
PRODID:-//The Vineyard - ECPv5.7.1//NONSGML v1.0//EN
CALSCALE:GREGORIAN
METHOD:PUBLISH
X-WR-CALNAME:The Vineyard
X-ORIGINAL-URL:https://thevineyardchurch.tv
X-WR-CALDESC:Events for The Vineyard
BEGIN:VTIMEZONE
TZID:UTC
BEGIN:STANDARD
TZOFFSETFROM:+0000
TZOFFSETTO:+0000
TZNAME:UTC
DTSTART:20220101T000000
END:STANDARD
END:VTIMEZONE
BEGIN:VEVENT
DTSTART;TZID=UTC:20221002T113000
DTEND;TZID=UTC:20221002T140000
DTSTAMP:20260421T135717
CREATED:20220908T201925Z
LAST-MODIFIED:20220908T201925Z
UID:10874-1664710200-1664719200@thevineyardchurch.tv
SUMMARY:Women's Ministry - A Plentiful Harvest With Abundant Blessings!
DESCRIPTION:
URL:https://thevineyardchurch.tv/event/womens-ministry-a-plentiful-harvest-with-abundant-blessings/
ATTACH;FMTTYPE=image/png:https://thevineyardchurch.tv/wp-content/uploads/2022/09/Postcard-pic-white-text.png
END:VEVENT
END:VCALENDAR