BEGIN:VCALENDAR
VERSION:2.0
PRODID:-//The Vineyard - ECPv5.7.1//NONSGML v1.0//EN
CALSCALE:GREGORIAN
METHOD:PUBLISH
X-WR-CALNAME:The Vineyard
X-ORIGINAL-URL:https://thevineyardchurch.tv
X-WR-CALDESC:Events for The Vineyard
BEGIN:VTIMEZONE
TZID:UTC
BEGIN:STANDARD
TZOFFSETFROM:+0000
TZOFFSETTO:+0000
TZNAME:UTC
DTSTART:20250101T000000
END:STANDARD
END:VTIMEZONE
BEGIN:VEVENT
DTSTART;TZID=UTC:20251027T190000
DTEND;TZID=UTC:20251027T203000
DTSTAMP:20260422T180112
CREATED:20250925T133830Z
LAST-MODIFIED:20251022T195241Z
UID:13062-1761591600-1761597000@thevineyardchurch.tv
SUMMARY:Seasons of Life
DESCRIPTION:Seasons of Life \nJoin other women navigating life’s stages together. Each group provides support and connection\, offering space to grow in faith\, encourage one another\, and gain deeper understanding through shared experiences. \nSeason of Building \nFor women raising children—whether little ones\, teens\, college students\, or young adults stepping into independence—while balancing work\, home\, and personal growth. This group offers encouragement and connection with others experiencing the same busy\, formative years. For meeting details\, please call Sandra Guiterrez at 781-888-0154. \nSeason of Harvest \nFor women with grown children who may be enjoying grandchildren\, mentoring\, volunteering\, pursuing hobbies\, or embracing new professional and personal projects—whether transitioning into semi-retirement or fully retired. This group celebrates God’s faithfulness and provides a vibrant community to share wisdom\, purpose\, and joy while actively engaging in the many opportunities this stage of life brings. For meeting details\, please call Karen Hernandez at 508-287-9610. \n 
URL:https://thevineyardchurch.tv/event/womens-in-person-bible-study-2/
ATTACH;FMTTYPE=image/jpeg:https://thevineyardchurch.tv/wp-content/uploads/2025/09/seasons-of-life-.jpg
END:VEVENT
END:VCALENDAR