BEGIN:VCALENDAR
VERSION:2.0
PRODID:-//The Vineyard - ECPv5.7.1//NONSGML v1.0//EN
CALSCALE:GREGORIAN
METHOD:PUBLISH
X-WR-CALNAME:The Vineyard
X-ORIGINAL-URL:https://thevineyardchurch.tv
X-WR-CALDESC:Events for The Vineyard
BEGIN:VTIMEZONE
TZID:UTC
BEGIN:STANDARD
TZOFFSETFROM:+0000
TZOFFSETTO:+0000
TZNAME:UTC
DTSTART:20240101T000000
END:STANDARD
END:VTIMEZONE
BEGIN:VEVENT
DTSTART;TZID=UTC:20240428T183000
DTEND;TZID=UTC:20240428T193000
DTSTAMP:20260419T173327
CREATED:20240425T193521Z
LAST-MODIFIED:20240425T195038Z
UID:11913-1714329000-1714332600@thevineyardchurch.tv
SUMMARY:Week of Prayer and Fasting - 6:30 PM to 7:30 PM
DESCRIPTION:We will be having a week of fasting (if medically advisable) and praying. Each night there will be a prayer meeting from 6:30 PM to 7:30 PM. All are welcome!
URL:https://thevineyardchurch.tv/event/week-of-prayer-and-fasting/
ATTACH;FMTTYPE=image/png:https://thevineyardchurch.tv/wp-content/uploads/2024/04/Week-of-Prayer-and-Fasting.png
END:VEVENT
END:VCALENDAR