BEGIN:VCALENDAR
VERSION:2.0
PRODID:-//The Vineyard - ECPv5.7.1//NONSGML v1.0//EN
CALSCALE:GREGORIAN
METHOD:PUBLISH
X-WR-CALNAME:The Vineyard
X-ORIGINAL-URL:https://thevineyardchurch.tv
X-WR-CALDESC:Events for The Vineyard
BEGIN:VTIMEZONE
TZID:UTC
BEGIN:STANDARD
TZOFFSETFROM:+0000
TZOFFSETTO:+0000
TZNAME:UTC
DTSTART:20250101T000000
END:STANDARD
END:VTIMEZONE
BEGIN:VEVENT
DTSTART;TZID=UTC:20250419T093000
DTEND;TZID=UTC:20250419T120000
DTSTAMP:20260421T113043
CREATED:20250214T154925Z
LAST-MODIFIED:20250214T154925Z
UID:12608-1745055000-1745064000@thevineyardchurch.tv
SUMMARY:Via Dolorosa - Journey To The Cross
DESCRIPTION:
URL:https://thevineyardchurch.tv/event/via-dolorosa-journey-to-the-cross-6/
LOCATION:The Vineyard\, A Community Church\, 8 Hilltop Avenue\, Kingston\, MA\, 02364\, United States
ATTACH;FMTTYPE=image/png:https://thevineyardchurch.tv/wp-content/uploads/2025/02/web-Via-D-2025-3.png
END:VEVENT
END:VCALENDAR