BEGIN:VCALENDAR
VERSION:2.0
PRODID:-//The Vineyard - ECPv5.7.1//NONSGML v1.0//EN
CALSCALE:GREGORIAN
METHOD:PUBLISH
X-WR-CALNAME:The Vineyard
X-ORIGINAL-URL:https://thevineyardchurch.tv
X-WR-CALDESC:Events for The Vineyard
BEGIN:VTIMEZONE
TZID:UTC
BEGIN:STANDARD
TZOFFSETFROM:+0000
TZOFFSETTO:+0000
TZNAME:UTC
DTSTART:20220101T000000
END:STANDARD
END:VTIMEZONE
BEGIN:VEVENT
DTSTART;TZID=UTC:20221112T183000
DTEND;TZID=UTC:20221112T210000
DTSTAMP:20260423T110658
CREATED:20220923T151512Z
LAST-MODIFIED:20220923T151522Z
UID:10937-1668277800-1668286800@thevineyardchurch.tv
SUMMARY:Ken Fish Conference
DESCRIPTION:
URL:https://thevineyardchurch.tv/event/ken-fish-conference-3/
ATTACH;FMTTYPE=image/png:https://thevineyardchurch.tv/wp-content/uploads/2022/09/Ken-Fish-Conf-Info-1.png
END:VEVENT
END:VCALENDAR