BEGIN:VCALENDAR
VERSION:2.0
PRODID:-//The Vineyard - ECPv5.7.1//NONSGML v1.0//EN
CALSCALE:GREGORIAN
METHOD:PUBLISH
X-WR-CALNAME:The Vineyard
X-ORIGINAL-URL:https://thevineyardchurch.tv
X-WR-CALDESC:Events for The Vineyard
BEGIN:VTIMEZONE
TZID:UTC
BEGIN:STANDARD
TZOFFSETFROM:+0000
TZOFFSETTO:+0000
TZNAME:UTC
DTSTART:20220101T000000
END:STANDARD
END:VTIMEZONE
BEGIN:VEVENT
DTSTART;TZID=UTC:20220130T180000
DTEND;TZID=UTC:20220130T200000
DTSTAMP:20260421T140917
CREATED:20211214T153424Z
LAST-MODIFIED:20211214T153424Z
UID:10232-1643565600-1643572800@thevineyardchurch.tv
SUMMARY:Glory of God South Shore
DESCRIPTION:
URL:https://thevineyardchurch.tv/event/glory-of-god-south-shore-5/
ATTACH;FMTTYPE=image/png:https://thevineyardchurch.tv/wp-content/uploads/2021/12/Glory-of-God-Jan.png
END:VEVENT
END:VCALENDAR