BEGIN:VCALENDAR
VERSION:2.0
PRODID:-//The Vineyard - ECPv5.7.1//NONSGML v1.0//EN
CALSCALE:GREGORIAN
METHOD:PUBLISH
X-WR-CALNAME:The Vineyard
X-ORIGINAL-URL:https://thevineyardchurch.tv
X-WR-CALDESC:Events for The Vineyard
BEGIN:VTIMEZONE
TZID:UTC
BEGIN:STANDARD
TZOFFSETFROM:+0000
TZOFFSETTO:+0000
TZNAME:UTC
DTSTART:20240101T000000
END:STANDARD
END:VTIMEZONE
BEGIN:VEVENT
DTSTART;TZID=UTC:20241124T113000
DTEND;TZID=UTC:20241124T130000
DTSTAMP:20260421T125731
CREATED:20241114T153622Z
LAST-MODIFIED:20241114T153622Z
UID:12238-1732447800-1732453200@thevineyardchurch.tv
SUMMARY:ESL Interest Meeting and Lunch
DESCRIPTION:
URL:https://thevineyardchurch.tv/event/esl-interest-meeting-and-lunch/
ATTACH;FMTTYPE=image/png:https://thevineyardchurch.tv/wp-content/uploads/2024/11/ESL-Interest-and-Lunch.png
END:VEVENT
END:VCALENDAR