BEGIN:VCALENDAR
VERSION:2.0
PRODID:-//The Vineyard - ECPv5.7.1//NONSGML v1.0//EN
CALSCALE:GREGORIAN
METHOD:PUBLISH
X-WR-CALNAME:The Vineyard
X-ORIGINAL-URL:https://thevineyardchurch.tv
X-WR-CALDESC:Events for The Vineyard
BEGIN:VTIMEZONE
TZID:UTC
BEGIN:STANDARD
TZOFFSETFROM:+0000
TZOFFSETTO:+0000
TZNAME:UTC
DTSTART:20240101T000000
END:STANDARD
END:VTIMEZONE
BEGIN:VEVENT
DTSTART;TZID=UTC:20240622T170000
DTEND;TZID=UTC:20240622T193000
DTSTAMP:20260423T125618
CREATED:20240607T145835Z
LAST-MODIFIED:20240607T145835Z
UID:11996-1719075600-1719084600@thevineyardchurch.tv
SUMMARY:Dinners with a Difference
DESCRIPTION:
URL:https://thevineyardchurch.tv/event/dinners-with-a-difference/
ATTACH;FMTTYPE=image/png:https://thevineyardchurch.tv/wp-content/uploads/2024/06/Dinners-with-a-difference.png
END:VEVENT
END:VCALENDAR