BEGIN:VCALENDAR
VERSION:2.0
PRODID:-//The Vineyard - ECPv5.7.1//NONSGML v1.0//EN
CALSCALE:GREGORIAN
METHOD:PUBLISH
X-WR-CALNAME:The Vineyard
X-ORIGINAL-URL:https://thevineyardchurch.tv
X-WR-CALDESC:Events for The Vineyard
BEGIN:VTIMEZONE
TZID:UTC
BEGIN:STANDARD
TZOFFSETFROM:+0000
TZOFFSETTO:+0000
TZNAME:UTC
DTSTART:20240101T000000
END:STANDARD
END:VTIMEZONE
BEGIN:VEVENT
DTSTART;TZID=UTC:20241124T100000
DTEND;TZID=UTC:20241124T113000
DTSTAMP:20260421T130053
CREATED:20211217T184510Z
LAST-MODIFIED:20240423T151755Z
UID:10250-1732442400-1732447800@thevineyardchurch.tv
SUMMARY:Church Service @ 10am
DESCRIPTION:
URL:https://thevineyardchurch.tv/event/church-service-10am-28/
END:VEVENT
END:VCALENDAR