BEGIN:VCALENDAR
VERSION:2.0
PRODID:-//The Vineyard - ECPv5.7.1//NONSGML v1.0//EN
CALSCALE:GREGORIAN
METHOD:PUBLISH
X-WR-CALNAME:The Vineyard
X-ORIGINAL-URL:https://thevineyardchurch.tv
X-WR-CALDESC:Events for The Vineyard
BEGIN:VTIMEZONE
TZID:UTC
BEGIN:STANDARD
TZOFFSETFROM:+0000
TZOFFSETTO:+0000
TZNAME:UTC
DTSTART:20220101T000000
END:STANDARD
END:VTIMEZONE
BEGIN:VEVENT
DTSTART;TZID=UTC:20221224T173000
DTEND;TZID=UTC:20221224T183000
DTSTAMP:20260425T113313
CREATED:20221122T193916Z
LAST-MODIFIED:20221122T194201Z
UID:10982-1671903000-1671906600@thevineyardchurch.tv
SUMMARY:Christmas Eve Service - Home for Christmas @ 5:30pm
DESCRIPTION:
URL:https://thevineyardchurch.tv/event/christmas-eve-service-home-for-christmas/
ATTACH;FMTTYPE=image/png:https://thevineyardchurch.tv/wp-content/uploads/2022/11/Christmas-Eve-Service-2022.png
END:VEVENT
END:VCALENDAR