BEGIN:VCALENDAR
VERSION:2.0
PRODID:-//The Vineyard - ECPv5.7.1//NONSGML v1.0//EN
CALSCALE:GREGORIAN
METHOD:PUBLISH
X-WR-CALNAME:The Vineyard
X-ORIGINAL-URL:https://thevineyardchurch.tv
X-WR-CALDESC:Events for The Vineyard
BEGIN:VTIMEZONE
TZID:UTC
BEGIN:STANDARD
TZOFFSETFROM:+0000
TZOFFSETTO:+0000
TZNAME:UTC
DTSTART:20250101T000000
END:STANDARD
END:VTIMEZONE
BEGIN:VEVENT
DTSTART;TZID=UTC:20250430T183000
DTEND;TZID=UTC:20250430T200000
DTSTAMP:20260422T230849
CREATED:20211217T201546Z
LAST-MODIFIED:20241212T162527Z
UID:10369-1746037800-1746043200@thevineyardchurch.tv
SUMMARY:Men's Celebrate Recovery
DESCRIPTION:Men’s Celebrate Recovery
URL:https://thevineyardchurch.tv/event/celebrate-recovery-60/
LOCATION:The Vineyard\, A Community Church\, 8 Hilltop Avenue\, Kingston\, MA\, 02364\, United States
ATTACH;FMTTYPE=image/png:https://thevineyardchurch.tv/wp-content/uploads/2021/12/celebrate-recovery-pic.png
END:VEVENT
END:VCALENDAR