BEGIN:VCALENDAR
VERSION:2.0
PRODID:-//The Vineyard - ECPv5.7.1//NONSGML v1.0//EN
CALSCALE:GREGORIAN
METHOD:PUBLISH
X-WR-CALNAME:The Vineyard
X-ORIGINAL-URL:https://thevineyardchurch.tv
X-WR-CALDESC:Events for The Vineyard
BEGIN:VTIMEZONE
TZID:UTC
BEGIN:STANDARD
TZOFFSETFROM:+0000
TZOFFSETTO:+0000
TZNAME:UTC
DTSTART:20230101T000000
END:STANDARD
END:VTIMEZONE
BEGIN:VEVENT
DTSTART;TZID=UTC:20231119T100000
DTEND;TZID=UTC:20231119T113000
DTSTAMP:20260421T111641
CREATED:20231011T171007Z
LAST-MODIFIED:20231011T171138Z
UID:11424-1700388000-1700393400@thevineyardchurch.tv
SUMMARY:Baptism Service @ 10 AM
DESCRIPTION:
URL:https://thevineyardchurch.tv/event/baptism-service/
ATTACH;FMTTYPE=image/png:https://thevineyardchurch.tv/wp-content/uploads/2023/10/Baptism-Nov.-19.png
END:VEVENT
END:VCALENDAR