BEGIN:VCALENDAR
VERSION:2.0
PRODID:-//The Vineyard - ECPv5.7.1//NONSGML v1.0//EN
CALSCALE:GREGORIAN
METHOD:PUBLISH
X-WR-CALNAME:The Vineyard
X-ORIGINAL-URL:https://thevineyardchurch.tv
X-WR-CALDESC:Events for The Vineyard
BEGIN:VTIMEZONE
TZID:UTC
BEGIN:STANDARD
TZOFFSETFROM:+0000
TZOFFSETTO:+0000
TZNAME:UTC
DTSTART:20240101T000000
END:STANDARD
END:VTIMEZONE
BEGIN:VEVENT
DTSTART;TZID=UTC:20240306T180000
DTEND;TZID=UTC:20240306T203000
DTSTAMP:20260421T123432
CREATED:20240201T155911Z
LAST-MODIFIED:20240201T155911Z
UID:11679-1709748000-1709757000@thevineyardchurch.tv
SUMMARY:Alpha @ 6 pm
DESCRIPTION:For more information\, click here.
URL:https://thevineyardchurch.tv/event/alpha-6-pm/
ATTACH;FMTTYPE=image/png:https://thevineyardchurch.tv/wp-content/uploads/2024/02/ALPHA-START-DATE.png
END:VEVENT
END:VCALENDAR